BEGIN:VCALENDAR
VERSION:2.0
PRODID:-//Wess E-commerce - ECPv5.15.0.1//NONSGML v1.0//EN
CALSCALE:GREGORIAN
METHOD:PUBLISH
X-WR-CALNAME:Wess E-commerce
X-ORIGINAL-URL:https://wissemoueslati.com
X-WR-CALDESC:évènements pour Wess E-commerce
BEGIN:VTIMEZONE
TZID:Europe/Paris
BEGIN:DAYLIGHT
TZOFFSETFROM:+0100
TZOFFSETTO:+0200
TZNAME:CEST
DTSTART:20190331T010000
END:DAYLIGHT
BEGIN:STANDARD
TZOFFSETFROM:+0200
TZOFFSETTO:+0100
TZNAME:CET
DTSTART:20191027T010000
END:STANDARD
END:VTIMEZONE
BEGIN:VEVENT
DTSTART;TZID=Europe/Paris:20190116T090000
DTEND;TZID=Europe/Paris:20190117T130000
DTSTAMP:20260425T122328
CREATED:20190107T164813Z
LAST-MODIFIED:20190107T165002Z
UID:7133-1547629200-1547730000@wissemoueslati.com
SUMMARY:Formation : Comment devenir e-résident et e-citoyen en Estonie 16-01-2019
DESCRIPTION:Formation : Comment devenir e-résident et e-citoyen en Estonie:\n\nLancer et démarrer officiellement votre entreprise européenne \nLancer votre entreprise européenne à distance \nObtenir un ou plusieurs compte(s) bancaire(s) professionnel(s) + Multi-devises\nObtenir votre PayPal Business illimité ! \nBénéficier de plusieurs autres services de grande valeur sans aller en Estonie.\n\nParce que faire du Business grâce à Internet : il faut des outils solides et surtout pas de système D.\nVous allez connaitre en détails des outils officiels nécessaires pour développer votre activité internationale; Pendant cette formation\, vous allez savoir toutes les démarches et découvrir comment en profiter de ce nouveau E-monde. \nJe partagerai avec vous aussi mes astuces inédites pour : \n\nDevenir e-résident et e-citoyen en Estonie en E-estonie (e-citizenship)\nLancer et démarrer officiellement votre entreprise européenne\nLancer votre entreprise européenne à distance\nObtenir un ou plusieurs compte bancaire professionnel + Multi-devises \,\nObtenir votre PayPal Business illimité !\nDes exemples et illustrations pratiques\n+Conseils pratiques et les erreurs à ne pas faire.\n\nLien d’enregistrement ICI Enregistrement \nFormation ICI : DEVENIR E-RÉSIDENT DE L’ESTONIE ET CRÉER VOTRE ENTREPRISE À DISTANCE\n  \nPrix de la formation: 270 DT\nHeure de formation Deux demi-journées : Mercredi 16-01-2019 9h-13h30 et Jeudi 17/01/2019 9h-13h30\nDates: Mercredi 16-01-2019 et Jeudi 17/01/2019\nLieu de formation : Cogite Coworking Space au Berges du Lac 1\, Tunis \nhttps://goo.gl/forms/IBbVAEbauojuFoas1 \nRemarque : Places limitées \nLieu de formation : Cogite Coworking Space au Berges du Lac 1\, Tunis \nTel: +216 97334972 \n  \n\nhttps://wissemoueslati.com/wp-content/uploads/2018/12/Session-1-rectif-1MP4.mp4\n 
URL:https://wissemoueslati.com/event/estonia-mon-deuxieme-e-estonia-residence
LOCATION:COGITE\, 1 PLACE TAHER HADDAD\, BERGES LAC\, LAC\, 1053\, Tunisie
CATEGORIES:Formation-ESTONIE
ATTACH;FMTTYPE=image/png:https://wissemoueslati.com/wp-content/uploads/2018/12/SESSION2-Estonie.png
ORGANIZER;CN="WESS%20European%20E-commerce":MAILTO:INFO@wissemoueslati.com
END:VEVENT
END:VCALENDAR